BEGIN:VCALENDAR
PRODID:-//hacksw/handcal//NONSGML v1.0//EN
VERSION:2.0
METHOD:PUBLISH
BEGIN:VEVENT
DTSTART:20220125T223000Z
DTEND:20220125T113000Z
LOCATION:ZOOM
UID:2205720220125T223000ZSTUDY GROUP- Webinar: Planning. After All That - Lifetime Transfers That Still Work!”
DTSTAMP:20260425T174307Z
DESCRIPTION:\nIf you wish to attend, please RSVP online at [www.epcnassau.org](https://na01.safelinks.protection.outlook.com/?url=http%3A%2F%2Fwww.epcnassau.org%2F&data=04%7C01%7C%7C8a4193be5b784910f9c308d9be696078%7C84df9e7fe9f640afb435aaaaaaaaaaaa%7C1%7C0%7C637750182066204726%7CUnknown%7CTWFpbGZsb3d8eyJWIjoiMC4wLjAwMDAiLCJQIjoiV2luMzIiLCJBTiI6Ik1haWwiLCJXVCI6Mn0%3D%7C3000&sdata=TsvT0n1%2FrcAF5y1svtCoxpO75IM8pkRIvWmk1JVaK7o%3D&reserved=0)  or to our Committee Chairperson:\n\n\n\n\n\n\n \nMichael P. Ryan, Esq.\n\n\n\n\n\n\n \n      516-393-8253\n\n\n \n\n  \n
SUMMARY:STUDY GROUP- Webinar: Planning. After All That - Lifetime Transfers That Still Work!” - Estate Planning Council of Long Island 
PRIORITY:3
BEGIN:VALARM
TRIGGER:PT18H
ACTION:DISPLAY
DESCRIPTION:Reminder
END:VALARM
END:VEVENT
END:VCALENDAR