BEGIN:VCALENDAR
PRODID:-//hacksw/handcal//NONSGML v1.0//EN
VERSION:2.0
METHOD:PUBLISH
BEGIN:VEVENT
DTSTART:20220524T220000Z
DTEND:20220525T020000Z
LOCATION:The Crescent Beach Club- Bayville, NY 
UID:2181920220524T220000ZAnnual Dinner- Officers' Conferment
DTSTAMP:20260425T174227Z
DESCRIPTION:\n \n \n \n
SUMMARY:Annual Dinner- Officers' Conferment - Estate Planning Council of Long Island 
PRIORITY:3
BEGIN:VALARM
TRIGGER:PT18H
ACTION:DISPLAY
DESCRIPTION:Reminder
END:VALARM
END:VEVENT
END:VCALENDAR