BEGIN:VCALENDAR
PRODID:-//hacksw/handcal//NONSGML v1.0//EN
VERSION:2.0
METHOD:PUBLISH
BEGIN:VEVENT
DTSTART:20211214T223000Z
DTEND:20211214T233000Z
LOCATION:ZOOM
UID:2172420211214T223000ZSTUDY GROUP Webinar: "Estate Planning for Modern Families- Planning for Diversity and Flexibility"
DTSTAMP:20260425T173905Z
DESCRIPTION:\nAdditional Details: As the traditional nuclear family has changed because of evolving social and legal norms as well as scientific and technological developments, estate planning professionals must be prepared both for issue spotting and thoughtful problem solving with regard to issues clients face, how existing trusts are interpreted, and how new estate planning instruments can be drafted for sufficient flexibility. This discussion will touch upon a potpourri of issues to consider, including: Marital Status (single, divorced, unmarried couples and polyamorous relationships); Defining Descendants (stepchildren, adoption, nonmarital children and assisted reproductive technologies); and other forms of Diversity (disability, LGBTQIA+, religious, racial and cultural inclusion) . . . and more!\n \nIf you wish to attend, please RSVP online at [www.epcnassau.org](https://na01.safelinks.protection.outlook.com/?url=http%3A%2F%2Fwww.epcnassau.org%2F&data=04%7C01%7C%7C5966fe484328420158b908d95b4f52ec%7C84df9e7fe9f640afb435aaaaaaaaaaaa%7C1%7C0%7C637641218519049973%7CUnknown%7CTWFpbGZsb3d8eyJWIjoiMC4wLjAwMDAiLCJQIjoiV2luMzIiLCJBTiI6Ik1haWwiLCJXVCI6Mn0%3D%7C1000&sdata=DKM4FyEufnGXLjfunB%2F763a0hzE4NE2Xu0xFKDhPMHk%3D&reserved=0)  or to our Committee Chairperson:\n\n\n\n\n \nMichael P. Ryan, Esq.\n\n\n\n\n \n      516-393-8253\n\n\n
SUMMARY:STUDY GROUP Webinar: "Estate Planning for Modern Families- Planning for Diversity and Flexibility" - Estate Planning Council of Long Island 
PRIORITY:3
BEGIN:VALARM
TRIGGER:PT18H
ACTION:DISPLAY
DESCRIPTION:Reminder
END:VALARM
END:VEVENT
END:VCALENDAR