BEGIN:VCALENDAR
PRODID:-//hacksw/handcal//NONSGML v1.0//EN
VERSION:2.0
METHOD:PUBLISH
BEGIN:VEVENT
DTSTART:20220317T213000Z
DTEND:20220318T003000Z
LOCATION:Fox Hollow, Woodbury, NY or ZOOM
UID:2171820220317T213000ZDinner Meeting- “Cryptocurrencies and Blockchain:  A Primer for Estate Planning Attorneys”
DTSTAMP:20260425T174425Z
DESCRIPTION:
SUMMARY:Dinner Meeting- “Cryptocurrencies and Blockchain:  A Primer for Estate Planning Attorneys” - Estate Planning Council of Long Island 
PRIORITY:3
BEGIN:VALARM
TRIGGER:PT18H
ACTION:DISPLAY
DESCRIPTION:Reminder
END:VALARM
END:VEVENT
END:VCALENDAR