BEGIN:VCALENDAR
PRODID:-//hacksw/handcal//NONSGML v1.0//EN
VERSION:2.0
METHOD:PUBLISH
BEGIN:VEVENT
DTSTART:20220120T223000Z
DTEND:20220121T003000Z
LOCATION:ZOOM
UID:2171720220120T223000ZZOOM Meeting- “The Only Things Certain in Life are Death and Taxes; The Only Questions are When and How Much”
DTSTAMP:20260425T174349Z
DESCRIPTION:
SUMMARY:ZOOM Meeting- “The Only Things Certain in Life are Death and Taxes; The Only Questions are When and How Much” - Estate Planning Council of Long Island 
PRIORITY:3
BEGIN:VALARM
TRIGGER:PT18H
ACTION:DISPLAY
DESCRIPTION:Reminder
END:VALARM
END:VEVENT
END:VCALENDAR