BEGIN:VCALENDAR
PRODID:-//hacksw/handcal//NONSGML v1.0//EN
VERSION:2.0
METHOD:PUBLISH
BEGIN:VEVENT
DTSTART:20220428T123000Z
DTEND:20220428T140000Z
LOCATION:Encore Luxury Living or ZOOM
UID:2171620220428T123000ZBreakfast Meeting- "“Nassau County Surrogates Court,  Spring 2022 Updates”
DTSTAMP:20260425T174432Z
DESCRIPTION:
SUMMARY:Breakfast Meeting- "“Nassau County Surrogates Court,  Spring 2022 Updates” - Estate Planning Council of Long Island 
PRIORITY:3
BEGIN:VALARM
TRIGGER:PT18H
ACTION:DISPLAY
DESCRIPTION:Reminder
END:VALARM
END:VEVENT
END:VCALENDAR