BEGIN:VCALENDAR
PRODID:-//hacksw/handcal//NONSGML v1.0//EN
VERSION:2.0
METHOD:PUBLISH
BEGIN:VEVENT
DTSTART:20220217T131500Z
DTEND:20220217T150000Z
LOCATION:Encore Luxury Living or ZOOM
UID:2171520220217T131500ZHYBRID Breakfast Meeting- “SSHHH – Can A New York Settlor Create A Silent Trust?”
DTSTAMP:20260425T175447Z
DESCRIPTION:\nPlease Note:\n \n- The ZOOM session begins with breakout rooms at 8:15 a.m.\n \n - In-person registration begins at Encore at 8:30 a.m.\n
SUMMARY:HYBRID Breakfast Meeting- “SSHHH – Can A New York Settlor Create A Silent Trust?” - Estate Planning Council of Long Island 
PRIORITY:3
BEGIN:VALARM
TRIGGER:PT18H
ACTION:DISPLAY
DESCRIPTION:Reminder
END:VALARM
END:VEVENT
END:VCALENDAR