BEGIN:VCALENDAR
PRODID:-//hacksw/handcal//NONSGML v1.0//EN
VERSION:2.0
METHOD:PUBLISH
BEGIN:VEVENT
DTSTART:20211118T223000Z
DTEND:20211119T010000Z
LOCATION:Chateau Briand- Old Country Road, Carle Place, NY
UID:2171420211118T223000ZNovember Dinner Meeting- “Estate Planning in the Current Environment” 
DTSTAMP:20260425T173836Z
DESCRIPTION:
SUMMARY:November Dinner Meeting- “Estate Planning in the Current Environment”  - Estate Planning Council of Long Island 
PRIORITY:3
BEGIN:VALARM
TRIGGER:PT18H
ACTION:DISPLAY
DESCRIPTION:Reminder
END:VALARM
END:VEVENT
END:VCALENDAR