BEGIN:VCALENDAR
PRODID:-//hacksw/handcal//NONSGML v1.0//EN
VERSION:2.0
METHOD:PUBLISH
BEGIN:VEVENT
DTSTART:20211021T123000Z
DTEND:20211021T140000Z
LOCATION:Encore Luxury Living- 300 Jericho Tpk,- Jericho, NY 11753
UID:2169220211021T123000ZOctober Breakfast Meeting- "The Secure Act: Understanding the Current Landscape of IRA Planning”
DTSTAMP:20260425T174324Z
DESCRIPTION:
SUMMARY:October Breakfast Meeting- "The Secure Act: Understanding the Current Landscape of IRA Planning” - Estate Planning Council of Long Island 
PRIORITY:3
BEGIN:VALARM
TRIGGER:PT18H
ACTION:DISPLAY
DESCRIPTION:Reminder
END:VALARM
END:VEVENT
END:VCALENDAR