BEGIN:VCALENDAR
PRODID:-//hacksw/handcal//NONSGML v1.0//EN
VERSION:2.0
METHOD:PUBLISH
BEGIN:VEVENT
DTSTART:20211216T133000Z
DTEND:20211216T150000Z
LOCATION:Encore Luxury Living or ZOOM
UID:2169120211216T133000ZDecember Breakfast Meeting- "Elder Law & Special Needs Year in Review” 
DTSTAMP:20260425T174754Z
DESCRIPTION:
SUMMARY:December Breakfast Meeting- "Elder Law & Special Needs Year in Review”  - Estate Planning Council of Long Island 
PRIORITY:3
BEGIN:VALARM
TRIGGER:PT18H
ACTION:DISPLAY
DESCRIPTION:Reminder
END:VALARM
END:VEVENT
END:VCALENDAR