BEGIN:VCALENDAR
PRODID:-//hacksw/handcal//NONSGML v1.0//EN
VERSION:2.0
METHOD:PUBLISH
BEGIN:VEVENT
DTSTART:20210720T213000Z
DTEND:20210720T223000Z
LOCATION:ZOOM
UID:2090620210720T213000ZSTUDY GROUP- Webinar: "2021 Income Tax Planning Strategies including IRA Strategies"
DTSTAMP:20260425T172056Z
DESCRIPTION:\nDetails: Robert is a partner with Keebler & Associates, LLP and the current chairman of the AICPA Advanced Estate Planning Conference. In 2007 he was inducted into the Estate Planning Hall of Fame of National Association of Estate Planners & Councils. He has also been named by CPA Magazine as one of the Top 100 Most Influential Practitioners in the United States and one of the Top 40 Tax Advisors to Know During a Recession. His practice includes family wealth transfer and preservation planning, charitable giving, retirement distribution planning, and estate administration\n \n.\n \n \n \nIf you wish to attend, please RSVP online at [www.epcnassau.org](https://eur06.safelinks.protection.outlook.com/?url=http%3A%2F%2Fwww.epcnassau.org%2F&data=02%7C01%7C%7C6ba4e0e3a85e49b113c908d856652d72%7C84df9e7fe9f640afb435aaaaaaaaaaaa%7C1%7C0%7C637354339855981498&sdata=OVzqyqOnp5g%2BTuY7gp0PU0U8NYXmksBufClBkKOQY5U%3D&reserved=0)  or to our Committee Chairperson:\n\n\n \nMichael P. Ryan, Esq.\n\n\n \n      516-393-8253\n\n\n \n mpryan@jaspanllp.com\n
SUMMARY:STUDY GROUP- Webinar: "2021 Income Tax Planning Strategies including IRA Strategies" - Estate Planning Council of Long Island 
PRIORITY:3
BEGIN:VALARM
TRIGGER:PT18H
ACTION:DISPLAY
DESCRIPTION:Reminder
END:VALARM
END:VEVENT
END:VCALENDAR