BEGIN:VCALENDAR
PRODID:-//hacksw/handcal//NONSGML v1.0//EN
VERSION:2.0
METHOD:PUBLISH
BEGIN:VEVENT
DTSTART:20210616T210000Z
DTEND:20210616T223000Z
LOCATION:ZOOM
UID:2090120210616T210000ZVirtual Tour of  Planting Fields
DTSTAMP:20260425T172012Z
DESCRIPTION:\nTour an original Gold Coast estate—virtually!\n \nJoin us for a virtual exploration of Planting Fields, a 409-acre Gold Coast estate in Oyster Bay built between 1918 and 1924 for insurance magnate William Robertson Coe, and his wife, Standard Oil heiress Mai Rogers Coe, and their four children by renowned architects Walker & Gillette with landscape design by the world-famous Olmsted Brothers.\n \nLed by âdocent Elizabeth Abrams, our unique experience around the historic 65-room mansion and lushly landscaped estate will include:\n The history and story of the Coe Family, from their accumulation of vast sums of wealth to the ambitious transformation of their grounds into a botanical marvel A discussion of the Planting Fields landscape (designed by Guy Lowell, A. Robeson Sargent, and the Olmsted Brothers firm), teeming with historic formal gardens, greenhouses, and rare species of trees and plants A digital tour of Coe Hall, the 65-room Tudor Revival mansion at the center of the estate that features examples of Mai Coe’s patronage of living artists including commissioned murals by American artists Robert Winthrop Chanler and Everett Shinn, ironwork by Samuel Yellin, and interior design by famed tastemaker Elsie De Wolfe Rare archival photos from the 1920s by Mattie Edwards Hewitt that reveal the evolution of the buildings and gardens of the estate \nAfterward, there will be a Q&A with Elizabeth — any and all questions about Planting Fields are welcomed and encouraged!\n \n\n
SUMMARY:Virtual Tour of  Planting Fields - Estate Planning Council of Long Island 
PRIORITY:3
BEGIN:VALARM
TRIGGER:PT18H
ACTION:DISPLAY
DESCRIPTION:Reminder
END:VALARM
END:VEVENT
END:VCALENDAR