BEGIN:VCALENDAR
PRODID:-//hacksw/handcal//NONSGML v1.0//EN
VERSION:2.0
METHOD:PUBLISH
BEGIN:VEVENT
DTSTART:20210520T123000Z
DTEND:20210520T140000Z
LOCATION:ZOOM
UID:2080420210520T123000ZZOOM Meeting- “Duties, Responsibilities and Selection of a Fiduciary”
DTSTAMP:20260425T173953Z
DESCRIPTION:\nWe would like to Thank the above Sponsor.\n
SUMMARY:ZOOM Meeting- “Duties, Responsibilities and Selection of a Fiduciary” - Estate Planning Council of Long Island 
PRIORITY:3
BEGIN:VALARM
TRIGGER:PT18H
ACTION:DISPLAY
DESCRIPTION:Reminder
END:VALARM
END:VEVENT
END:VCALENDAR