BEGIN:VCALENDAR
PRODID:-//hacksw/handcal//NONSGML v1.0//EN
VERSION:2.0
METHOD:PUBLISH
BEGIN:VEVENT
DTSTART:20210518T213000Z
DTEND:20210518T223000Z
LOCATION:ZOOM
UID:2072320210518T213000ZSTUDY GROUP- "Webinar: 529 Planning"
DTSTAMP:20260425T173348Z
DESCRIPTION:\nDetails: Susan is a fellow, regent, and former Illinois state chair of the American College of Trust & Estate Counsel (ACTEC), the leading national association for trust and estate lawyers. She was the Reporter of the Uniform Trust Decanting Act, which is now being enacted in several states. She has also been active in Illinois trust law legislation.\n \n \n\n\n \nIf you wish to attend, please RSVP online at [www.epcnassau.org](https://eur06.safelinks.protection.outlook.com/?url=http%3A%2F%2Fwww.epcnassau.org%2F&data=02%7C01%7C%7C6ba4e0e3a85e49b113c908d856652d72%7C84df9e7fe9f640afb435aaaaaaaaaaaa%7C1%7C0%7C637354339855981498&sdata=OVzqyqOnp5g%2BTuY7gp0PU0U8NYXmksBufClBkKOQY5U%3D&reserved=0)  or to our Committee Chairperson:\n\n\n \nMichael P. Ryan, Esq.\n\n\n \n      516-393-8253\n\n\n \n mpryan@jaspanllp.com\n\n\n
SUMMARY:STUDY GROUP- "Webinar: 529 Planning" - Estate Planning Council of Long Island 
PRIORITY:3
BEGIN:VALARM
TRIGGER:PT18H
ACTION:DISPLAY
DESCRIPTION:Reminder
END:VALARM
END:VEVENT
END:VCALENDAR