BEGIN:VCALENDAR
PRODID:-//hacksw/handcal//NONSGML v1.0//EN
VERSION:2.0
METHOD:PUBLISH
BEGIN:VEVENT
DTSTART:20210427T213000Z
DTEND:20210427T223000Z
LOCATION:ZOOM
UID:2072220210427T213000ZSTUDY GROUP- Webinar: Well-Being Trusts — the Future of Imbuing Trusts with Positivity, Meaning and Purpose
DTSTAMP:20260425T172944Z
DESCRIPTION:\nDetails: Richard focuses on estate planning, trusts and estate administration, and beneficiary and fiduciary representation.  He is a member of the District of Columbia and Florida Bars, a Fellow of the American College of Trust and Estate Counsel and serves on its Tax Policy Study Committee.   Raymond C. Odom is a Senior Vice President at Northern Trust - Chicago. He serves as Director of Wealth Transfer Services in the Wealth Management division. Ray serves as a national subject matter expert in wealth transfer planning. Ray works with The Northern Trust Foundation & Institutional Advisers and Wealth Management partners and clients to provide valuable estate planning and charitable giving ideas to clients, prospects and professional advisers.  Ray has a B.A. from Valparaiso University and a J.D. from The Ohio State - Moritz College of Law. He is an attorney licensed to practice law in Illinois and before the U.S. Tax Court. In addition, Ray is a Certified Financial Planner (CFP). Ray is a Fellow in the American College of Trust and Estate Counsel (ACTEC). He is a current member of the Chicago Estate Planning Council and is on the advisory council for the Hadley (f/k/a Hadley Institute for the Blind and Visually Impaired) Winnetka, Illinois and the Northern Illinois Food Bank in Geneva, Illinois.\n \nAdditional Details: In this program, speakers, Ray Odom and Richard Franklin will provide ideas, examples and language to prepare trusts and other estate planning documents that are designed to improve well-being.  They will show how to build positivity, meaning and purpose into trusts, using positive psychology’s empirical research and other data to support family well-being and flourishing.  Ray will review positive, research based ways to spend that increase well-being (there’s a shocking absence of such information in trusts & estate literature) and share a “benevolence” model to consider in all wealth transfers. Richard will provide a model for trustees to use in building a well-being baseline and beyond.\n \n \n \nIf you wish to attend, please RSVP online at [www.epcnassau.org](https://eur06.safelinks.protection.outlook.com/?url=http%3A%2F%2Fwww.epcnassau.org%2F&data=02%7C01%7C%7C6ba4e0e3a85e49b113c908d856652d72%7C84df9e7fe9f640afb435aaaaaaaaaaaa%7C1%7C0%7C637354339855981498&sdata=OVzqyqOnp5g%2BTuY7gp0PU0U8NYXmksBufClBkKOQY5U%3D&reserved=0)  or to our Committee Chairperson:\n\n\n \nMichael P. Ryan, Esq.\n\n\n \n      516-393-8253\n\n\n \n mpryan@jaspanllp.com\n\n\n
SUMMARY:STUDY GROUP- Webinar: Well-Being Trusts — the Future of Imbuing Trusts with Positivity, Meaning and Purpose - Estate Planning Council of Long Island 
PRIORITY:3
BEGIN:VALARM
TRIGGER:PT18H
ACTION:DISPLAY
DESCRIPTION:Reminder
END:VALARM
END:VEVENT
END:VCALENDAR