BEGIN:VCALENDAR
PRODID:-//hacksw/handcal//NONSGML v1.0//EN
VERSION:2.0
METHOD:PUBLISH
BEGIN:VEVENT
DTSTART:20210316T213000Z
DTEND:20210316T230000Z
LOCATION:ZOOM
UID:2072120210316T213000ZSTUDY GROUP- Webinar: "Growing Your Business and Network in a Virtual World: A Multidisciplinary Panel Discussion"
DTSTAMP:20260425T172504Z
DESCRIPTION:\n Has the global health crisis and the acceleration of an online environment changed the way you market your services and advise your clients? Do you have the technological tools to communicate effectively with your current network? Are you looking for ways to expand your reach? Attend this unique multi-disciplinary panel discussion to learn strategies for interacting with your clients in the rapidly growing virtual space from experts in the technology, legal, trust, insurance and financial planning, philanthropic, and accounting practice areas. Those who are unable to attend on the live date and time are welcome to register and on-demand access will automatically be sent so you can watch the program at your leisure. \n\n\n \n \n \n \n \nIf you wish to attend, please RSVP online at [www.epcnassau.org](https://eur06.safelinks.protection.outlook.com/?url=http%3A%2F%2Fwww.epcnassau.org%2F&data=02%7C01%7C%7C6ba4e0e3a85e49b113c908d856652d72%7C84df9e7fe9f640afb435aaaaaaaaaaaa%7C1%7C0%7C637354339855981498&sdata=OVzqyqOnp5g%2BTuY7gp0PU0U8NYXmksBufClBkKOQY5U%3D&reserved=0)  or to our Committee Chairperson:\n\n\n \nMichael P. Ryan, Esq.\n\n\n \n      516-393-8253\n\n\n \n mpryan@jaspanllp.com\n\n\n
SUMMARY:STUDY GROUP- Webinar: "Growing Your Business and Network in a Virtual World: A Multidisciplinary Panel Discussion" - Estate Planning Council of Long Island 
PRIORITY:3
BEGIN:VALARM
TRIGGER:PT18H
ACTION:DISPLAY
DESCRIPTION:Reminder
END:VALARM
END:VEVENT
END:VCALENDAR