BEGIN:VCALENDAR
PRODID:-//hacksw/handcal//NONSGML v1.0//EN
VERSION:2.0
METHOD:PUBLISH
BEGIN:VEVENT
DTSTART:20210218T133000Z
DTEND:20210218T150000Z
LOCATION:ZOOM
UID:2046920210218T133000Z“5 Critical Cybersecurity Measures Every Professional Organization Must Have In Place To Protect Your Company Data”
DTSTAMP:20260425T174226Z
DESCRIPTION:\nWe would like to Thank the above Sponsor.\n
SUMMARY:“5 Critical Cybersecurity Measures Every Professional Organization Must Have In Place To Protect Your Company Data” - Estate Planning Council of Long Island 
PRIORITY:3
BEGIN:VALARM
TRIGGER:PT18H
ACTION:DISPLAY
DESCRIPTION:Reminder
END:VALARM
END:VEVENT
END:VCALENDAR