BEGIN:VCALENDAR
PRODID:-//hacksw/handcal//NONSGML v1.0//EN
VERSION:2.0
METHOD:PUBLISH
BEGIN:VEVENT
DTSTART:20201229T220000Z
DTEND:20201229T233000Z
LOCATION:ZOOM
UID:2043220201229T220000ZVirtual Holiday Wine Event
DTSTAMP:20260425T172702Z
DESCRIPTION:\n \n \n \n
SUMMARY:Virtual Holiday Wine Event - Estate Planning Council of Long Island 
PRIORITY:3
BEGIN:VALARM
TRIGGER:PT18H
ACTION:DISPLAY
DESCRIPTION:Reminder
END:VALARM
END:VEVENT
END:VCALENDAR