BEGIN:VCALENDAR
PRODID:-//hacksw/handcal//NONSGML v1.0//EN
VERSION:2.0
METHOD:PUBLISH
BEGIN:VEVENT
DTSTART:20210921T220000Z
DTEND:20210922T020000Z
LOCATION:The Crescent Beach Club- 333 Bayville Ave., Bayville, NY 11709
UID:2031720210921T220000ZSeptember Sunset Waterfront Dinner
DTSTAMP:20260425T174307Z
DESCRIPTION:
SUMMARY:September Sunset Waterfront Dinner - Estate Planning Council of Long Island 
PRIORITY:3
BEGIN:VALARM
TRIGGER:PT18H
ACTION:DISPLAY
DESCRIPTION:Reminder
END:VALARM
END:VEVENT
END:VCALENDAR