BEGIN:VCALENDAR
PRODID:-//hacksw/handcal//NONSGML v1.0//EN
VERSION:2.0
METHOD:PUBLISH
BEGIN:VEVENT
DTSTART:20210318T123000Z
DTEND:20210318T140000Z
LOCATION:ZOOM
UID:2031520210318T123000Z“The Big Apple vs. The Florida Orange – Florida Trust and Estate Issues for New York Professionals”
DTSTAMP:20260425T174527Z
DESCRIPTION:\nThank you Vital Care Partners for Sponsoring the March 18th Meeting!\n \nVisit their website [here.](https://www.vitalcarepartners.com/)\n
SUMMARY:“The Big Apple vs. The Florida Orange – Florida Trust and Estate Issues for New York Professionals” - Estate Planning Council of Long Island 
PRIORITY:3
BEGIN:VALARM
TRIGGER:PT18H
ACTION:DISPLAY
DESCRIPTION:Reminder
END:VALARM
END:VEVENT
END:VCALENDAR