BEGIN:VCALENDAR
PRODID:-//hacksw/handcal//NONSGML v1.0//EN
VERSION:2.0
METHOD:PUBLISH
BEGIN:VEVENT
DTSTART:20210121T133000Z
DTEND:20210121T150000Z
LOCATION:ZOOM
UID:2031320210121T133000Z“Domicile Dilemmas During the Pandemic – The Tax Impact of Our Migratory Patterns on Individuals and Trusts”
DTSTAMP:20260425T173837Z
DESCRIPTION:
SUMMARY:“Domicile Dilemmas During the Pandemic – The Tax Impact of Our Migratory Patterns on Individuals and Trusts” - Estate Planning Council of Long Island 
PRIORITY:3
BEGIN:VALARM
TRIGGER:PT18H
ACTION:DISPLAY
DESCRIPTION:Reminder
END:VALARM
END:VEVENT
END:VCALENDAR