BEGIN:VCALENDAR
PRODID:-//hacksw/handcal//NONSGML v1.0//EN
VERSION:2.0
METHOD:PUBLISH
BEGIN:VEVENT
DTSTART:20201117T223000Z
DTEND:20201117T233000Z
LOCATION:REMOTELY
UID:2015620201117T223000ZStudy Group- Webinar: "Creative Ways to Fund Business Owner Retirement"
DTSTAMP:20260425T173338Z
DESCRIPTION:\nVincent M. D'Addona, MSFS, CLU®, ChFC®, RICP®, CExP®, AEP® (Distinguished).  Every Business Owner leaves their businesses whether voluntarily or involuntarily.  Consideration in the positioning and use of life insurance prior to the exit can mean a huge difference in ultimate retirement cash flow for the Business Owner.  This intermediate presentation will provide valuable food for thought for the professional who has business owner clients.\n \nVincent M. D’Addona MSFS, CLU®, ChFC®, RICP®, CExP®, AEP® (Distinguished) is an advisor at Strategies for Wealth with 41 years of experience providing services in three core areas: Estate Planning, Exit Planning for the owners of closely held businesses and Investment Coaching.\n \n \n \n \n \nIf you wish to attend, please RSVP online at [www.epcnassau.org](https://nam12.safelinks.protection.outlook.com/?url=http%3A%2F%2Fwww.epcnassau.org%2F&data=04%7C01%7C%7C80042b54e07d4e3d6c3208d871f9b9b4%7C84df9e7fe9f640afb435aaaaaaaaaaaa%7C1%7C0%7C637384664657224365%7CUnknown%7CTWFpbGZsb3d8eyJWIjoiMC4wLjAwMDAiLCJQIjoiV2luMzIiLCJBTiI6Ik1haWwiLCJXVCI6Mn0%3D%7C1000&sdata=zFSPAERCD2kKmS02B5Sjoity%2BKLD0o2VhNqYzki%2FaVw%3D&reserved=0)  or to our Committee Chairperson:\n\n\n \nMichael P. Ryan, Esq.\n\n\n \n      516-393-8253\n\n\n \n mpryan@jaspanllp.com\n\n\n
SUMMARY:Study Group- Webinar: "Creative Ways to Fund Business Owner Retirement" - Estate Planning Council of Long Island 
PRIORITY:3
BEGIN:VALARM
TRIGGER:PT18H
ACTION:DISPLAY
DESCRIPTION:Reminder
END:VALARM
END:VEVENT
END:VCALENDAR