BEGIN:VCALENDAR
PRODID:-//hacksw/handcal//NONSGML v1.0//EN
VERSION:2.0
METHOD:PUBLISH
BEGIN:VEVENT
DTSTART:20201217T133000Z
DTEND:20201217T153000Z
LOCATION:ZOOM
UID:2008220201217T133000ZDecember Meeting- “Smarter Social Security”
DTSTAMP:20260425T171958Z
DESCRIPTION:\nWe would like to thank FTI for their Sponsorship.\n \n \n \n \n
SUMMARY:December Meeting- “Smarter Social Security” - Estate Planning Council of Long Island 
PRIORITY:3
BEGIN:VALARM
TRIGGER:PT18H
ACTION:DISPLAY
DESCRIPTION:Reminder
END:VALARM
END:VEVENT
END:VCALENDAR