BEGIN:VCALENDAR
PRODID:-//hacksw/handcal//NONSGML v1.0//EN
VERSION:2.0
METHOD:PUBLISH
BEGIN:VEVENT
DTSTART:20201119T133000Z
DTEND:20201119T153000Z
LOCATION:ZOOM
UID:2008120201119T133000ZNovember Meeting- “Tax Planning in Uncertain Times"
DTSTAMP:20260425T173359Z
DESCRIPTION:\nWe would like to thank our Sponsor:\n \n\n
SUMMARY:November Meeting- “Tax Planning in Uncertain Times" - Estate Planning Council of Long Island 
PRIORITY:3
BEGIN:VALARM
TRIGGER:PT18H
ACTION:DISPLAY
DESCRIPTION:Reminder
END:VALARM
END:VEVENT
END:VCALENDAR