BEGIN:VCALENDAR
PRODID:-//hacksw/handcal//NONSGML v1.0//EN
VERSION:2.0
METHOD:PUBLISH
BEGIN:VEVENT
DTSTART:20201019T123000Z
DTEND:20201019T143000Z
LOCATION:ZOOM
UID:2008020201019T123000ZOctober Meeting- “Surrogate's Court Procedures to Ensure Access to Justice During the Covid-19 Pandemic 2020”
DTSTAMP:20260425T172702Z
DESCRIPTION:\nWe would like to thank our Sponsor:\n \n\n
SUMMARY:October Meeting- “Surrogate's Court Procedures to Ensure Access to Justice During the Covid-19 Pandemic 2020” - Estate Planning Council of Long Island 
PRIORITY:3
BEGIN:VALARM
TRIGGER:PT18H
ACTION:DISPLAY
DESCRIPTION:Reminder
END:VALARM
END:VEVENT
END:VCALENDAR