BEGIN:VCALENDAR
PRODID:-//hacksw/handcal//NONSGML v1.0//EN
VERSION:2.0
METHOD:PUBLISH
BEGIN:VEVENT
DTSTART:20200917T123000Z
DTEND:20200917T143000Z
LOCATION:ZOOM
UID:2003620200917T123000ZSeptember Meeting- “Impending Changes to the New York State Home Care Medicaid Program”
DTSTAMP:20260425T172729Z
DESCRIPTION:\nCouncil Members- \n\n\n \nThere is no need to RSVP to me. You will receive a Zoom Calendar Invite shortly. \n\n\n \nLook forward to seeing your faces!! \n\n\n \n-Lisa\n\n\n
SUMMARY:September Meeting- “Impending Changes to the New York State Home Care Medicaid Program” - Estate Planning Council of Long Island 
PRIORITY:3
BEGIN:VALARM
TRIGGER:PT18H
ACTION:DISPLAY
DESCRIPTION:Reminder
END:VALARM
END:VEVENT
END:VCALENDAR