BEGIN:VCALENDAR
PRODID:-//hacksw/handcal//NONSGML v1.0//EN
VERSION:2.0
METHOD:PUBLISH
BEGIN:VEVENT
DTSTART:20201020T213000Z
DTEND:20201020T223000Z
LOCATION:REMOTELY
UID:1961220201020T213000ZSTUDY GROUP- Webinar: "Planning for International Families in a time of COVID-19" 
DTSTAMP:20260425T173132Z
DESCRIPTION:\n \n \nJoseph A. Field, Esq. Joseph Field is Senior Counsel at Pillsbury Winthrop Shaw Pittman in New York and represents international families on structuring their estate planning as well as financial institutions on a variety of financial services, particularly with respect to life insurance.\n \nThis presentation will focus on estate planning issues that arise with international clients or local clients who have assets out of the country.\n \n \n \n \n \nIf you wish to attend, please RSVP online at [www.epcnassau.org](https://eur03.safelinks.protection.outlook.com/?url=http%3A%2F%2Fwww.epcnassau.org%2F&data=02%7C01%7C%7Cb1cba1911fab4aa3613b08d7af542215%7C84df9e7fe9f640afb435aaaaaaaaaaaa%7C1%7C0%7C637170648189896651&sdata=H7U076FNX9ijsg00%2B%2BpAqKiPcAApBcm8MWoxYcMdb4E%3D&reserved=0)  or to our Committee Chairperson:\n \nMichael P. Ryan, Esq.\n \n      516-393-8253\n \n mpryan@jaspanllp.com\n
SUMMARY:STUDY GROUP- Webinar: "Planning for International Families in a time of COVID-19"  - Estate Planning Council of Long Island 
PRIORITY:3
BEGIN:VALARM
TRIGGER:PT18H
ACTION:DISPLAY
DESCRIPTION:Reminder
END:VALARM
END:VEVENT
END:VCALENDAR