BEGIN:VCALENDAR
PRODID:-//hacksw/handcal//NONSGML v1.0//EN
VERSION:2.0
METHOD:PUBLISH
BEGIN:VEVENT
DTSTART:20200915T213000Z
DTEND:20200915T223000Z
LOCATION:REMOTELY
UID:1961120200915T213000ZSTUDY GROUP- Webinar:  Zen and the Art of Trust Modification
DTSTAMP:20260425T174922Z
DESCRIPTION:\n \n \nSusan T. Bart Esq. Ms. Bart is a partner in the Private Clients, Trusts & Estates Group of the Chicago office of Schiff Hardin LLP. She is a Fellow of The American College of Trust and Estate Counsel (ACTEC) and Chair of its Estate and Gift Tax Committee. She was the Reporter for the Uniform Law Commission Trust Decanting Act.\n \nThis presentation asks us to "step back from the mind-numbing distinctions and details of particular decanting and non-judicial modification statutes to focus on the universal issues that should be addressed when taking a trust into the shop and the nuts and bolts of getting your trust on the road again."\n \n \n \n \n \nIf you wish to attend, please RSVP online at [www.epcnassau.org](https://eur03.safelinks.protection.outlook.com/?url=http%3A%2F%2Fwww.epcnassau.org%2F&data=02%7C01%7C%7C3117b20c0e7d400cb35908d7b6ed1aa1%7C84df9e7fe9f640afb435aaaaaaaaaaaa%7C1%7C0%7C637179001775437655&sdata=vqrabFXnYMiLrdJeVO%2BlinBXqgMpLI1JPJNbVK6wh78%3D&reserved=0)  or to our Committee Chairperson:\n \nMichael P. Ryan, Esq.\n \n      516-393-8253\n \n mpryan@jaspanllp.com\n
SUMMARY:STUDY GROUP- Webinar:  Zen and the Art of Trust Modification - Estate Planning Council of Long Island 
PRIORITY:3
BEGIN:VALARM
TRIGGER:PT18H
ACTION:DISPLAY
DESCRIPTION:Reminder
END:VALARM
END:VEVENT
END:VCALENDAR