BEGIN:VCALENDAR
PRODID:-//hacksw/handcal//NONSGML v1.0//EN
VERSION:2.0
METHOD:PUBLISH
BEGIN:VEVENT
DTSTART:20200625T130000Z
DTEND:20200625T140000Z
LOCATION:ZOOM
UID:1954120200625T130000ZAnnual Officers' Conferment Meeting
DTSTAMP:20260425T174426Z
DESCRIPTION:\nVirtual Zoom Annual Officers’ Conferment Meeting\n \nThursday - June 25, 2020\n \n9:00 a.m. – 10:00 a.m.\n \nJoin us for this special live event as we thank our Past-President Melissa Gonzalez for her tireless service and welcome our incoming President Rick Chalifoux and swear in our 2020/2021 Board.\n \n \n \n \n \n \n \n \n
SUMMARY:Annual Officers' Conferment Meeting - Estate Planning Council of Long Island 
PRIORITY:3
BEGIN:VALARM
TRIGGER:PT18H
ACTION:DISPLAY
DESCRIPTION:Reminder
END:VALARM
END:VEVENT
END:VCALENDAR