BEGIN:VCALENDAR
PRODID:-//hacksw/handcal//NONSGML v1.0//EN
VERSION:2.0
METHOD:PUBLISH
BEGIN:VEVENT
DTSTART:20200528T210000Z
DTEND:20200528T213000Z
LOCATION:Wherever You Are
UID:1944320200528T210000ZZOOM- Happy Hour
DTSTAMP:20260425T173701Z
DESCRIPTION:\n\n\n  \n
SUMMARY:ZOOM- Happy Hour - Estate Planning Council of Long Island 
PRIORITY:3
BEGIN:VALARM
TRIGGER:PT18H
ACTION:DISPLAY
DESCRIPTION:Reminder
END:VALARM
END:VEVENT
END:VCALENDAR