BEGIN:VCALENDAR
PRODID:-//hacksw/handcal//NONSGML v1.0//EN
VERSION:2.0
METHOD:PUBLISH
BEGIN:VEVENT
DTSTART:20200220T133000Z
DTEND:20200220T150000Z
LOCATION:The Nassau County Bar Association- 15th and West Streets, Mineola, NY 1150-  516-747-4070
UID:1872620200220T133000ZBreakfast Meeting- “Practical Estate and Trust Planning with IRA and Qualified  Plan Assets after the passage of the SECURE Act” 
DTSTAMP:20260425T173708Z
DESCRIPTION:\n^\n \n^\n \n^\n \n^\n \n We would like to Thank our Meeting Sponsor\n \n \n
SUMMARY:Breakfast Meeting- “Practical Estate and Trust Planning with IRA and Qualified  Plan Assets after the passage of the SECURE Act”  - Estate Planning Council of Long Island 
PRIORITY:3
BEGIN:VALARM
TRIGGER:PT18H
ACTION:DISPLAY
DESCRIPTION:Reminder
END:VALARM
END:VEVENT
END:VCALENDAR