BEGIN:VCALENDAR
PRODID:-//hacksw/handcal//NONSGML v1.0//EN
VERSION:2.0
METHOD:PUBLISH
BEGIN:VEVENT
DTSTART:20191219T133000Z
DTEND:20191219T150000Z
LOCATION:Westbury Manor- 1100 Jericho Turnpike- Westbury, NY 11590
UID:1872120191219T133000ZBreakfast Meeting- “Defensive Estate Planning”
DTSTAMP:20260425T173317Z
DESCRIPTION:
SUMMARY:Breakfast Meeting- “Defensive Estate Planning” - Estate Planning Council of Long Island 
PRIORITY:3
BEGIN:VALARM
TRIGGER:PT18H
ACTION:DISPLAY
DESCRIPTION:Reminder
END:VALARM
END:VEVENT
END:VCALENDAR