BEGIN:VCALENDAR
PRODID:-//hacksw/handcal//NONSGML v1.0//EN
VERSION:2.0
METHOD:PUBLISH
BEGIN:VEVENT
DTSTART:20191121T223000Z
DTEND:20191122T010000Z
LOCATION:Chateau Briand 440 Old Country Road, Carle Place, NY 11514 516-334-6125
UID:1872020191121T223000ZDinner Meeting- Top Tax & Estate Planning Techniques after "Tax Reform" (Sorting Through the COVFEFE)
DTSTAMP:20260425T173539Z
DESCRIPTION:\nWe would like to thank our Sponsor:    MAZARS\n
SUMMARY:Dinner Meeting- Top Tax & Estate Planning Techniques after "Tax Reform" (Sorting Through the COVFEFE) - Estate Planning Council of Long Island 
PRIORITY:3
BEGIN:VALARM
TRIGGER:PT18H
ACTION:DISPLAY
DESCRIPTION:Reminder
END:VALARM
END:VEVENT
END:VCALENDAR