BEGIN:VCALENDAR
PRODID:-//hacksw/handcal//NONSGML v1.0//EN
VERSION:2.0
METHOD:PUBLISH
BEGIN:VEVENT
DTSTART:20191017T123000Z
DTEND:20191017T140000Z
LOCATION:Nassau County Bar Association-15th and West Streets, Mineola, NY 11501  516-747-4070
UID:1871620191017T123000Z“Year-End Tax Planning Tips After Year 1 of TCJA”
DTSTAMP:20260425T173708Z
DESCRIPTION:
SUMMARY:“Year-End Tax Planning Tips After Year 1 of TCJA” - Estate Planning Council of Long Island 
PRIORITY:3
BEGIN:VALARM
TRIGGER:PT18H
ACTION:DISPLAY
DESCRIPTION:Reminder
END:VALARM
END:VEVENT
END:VCALENDAR