BEGIN:VCALENDAR
PRODID:-//hacksw/handcal//NONSGML v1.0//EN
VERSION:2.0
METHOD:PUBLISH
BEGIN:VEVENT
DTSTART:20190919T213000Z
DTEND:20190920T000000Z
LOCATION:Westbury Manor- 1100 Jericho Turnpike- Westbury, NY 11590
UID:1852820190919T213000Z“Use of Cash Balance Plans by Specified Service Trades or Businesses to Qualify for the 20% 199A Pass through Deduction and the Integration of Plan Assets into the Estate Plan” 
DTSTAMP:20260425T173533Z
DESCRIPTION:\n \n \n \n \nWe would like to thank our Sponsor:[](https://mpival.com/)\n \n \n
SUMMARY:“Use of Cash Balance Plans by Specified Service Trades or Businesses to Qualify for the 20% 199A Pass through Deduction and the Integration of Plan Assets into the Estate Plan”  - Estate Planning Council of Long Island 
PRIORITY:3
BEGIN:VALARM
TRIGGER:PT18H
ACTION:DISPLAY
DESCRIPTION:Reminder
END:VALARM
END:VEVENT
END:VCALENDAR