BEGIN:VCALENDAR
PRODID:-//hacksw/handcal//NONSGML v1.0//EN
VERSION:2.0
METHOD:PUBLISH
BEGIN:VEVENT
DTSTART:20190912T220000Z
DTEND:20190913T000000Z
LOCATION:Six Harbors Brewing Company- 234 New York Ave., Huntington, NY 11743 631-470-1560
UID:1834020190912T220000Z70 for 70 Campaign- “Octoberfest in September”
DTSTAMP:20260425T173527Z
DESCRIPTION:
SUMMARY:70 for 70 Campaign- “Octoberfest in September” - Estate Planning Council of Long Island 
PRIORITY:3
BEGIN:VALARM
TRIGGER:PT18H
ACTION:DISPLAY
DESCRIPTION:Reminder
END:VALARM
END:VEVENT
END:VCALENDAR