BEGIN:VCALENDAR
PRODID:-//hacksw/handcal//NONSGML v1.0//EN
VERSION:2.0
METHOD:PUBLISH
BEGIN:VEVENT
DTSTART:20200225T223000Z
DTEND:20200225T233000Z
LOCATION:Jaspan Schlesinger- 300 Garden City Plaza, Garden City, New York 11530
UID:1812820200225T223000ZSTUDY GROUP- Webinar: "Basis Step-Up Strategies in Light of Portability and Tax Law Changes" 
DTSTAMP:20260425T174138Z
DESCRIPTION:\n \n \nIf you wish to attend, please RSVP online at [ www.epcnassau.org](https://nam12.safelinks.protection.outlook.com/?url=http%3A%2F%2Fwww.epcnassau.org%2F&data=02%7C01%7C%7Cc003873c59394f17c8e608d79eb78985%7C84df9e7fe9f640afb435aaaaaaaaaaaa%7C1%7C0%7C637152383425292153&sdata=ODFuCAcoDrmTl6gfhLq37jwc182nuLQ17O%2F2H8%2FYmkk%3D&reserved=0)  or to our Committee Chairperson:\n \nMichael P. Ryan, Esq.\n \n      516-393-8253\n \n mpryan@jaspanllp.com\n
SUMMARY:STUDY GROUP- Webinar: "Basis Step-Up Strategies in Light of Portability and Tax Law Changes"  - Estate Planning Council of Long Island 
PRIORITY:3
BEGIN:VALARM
TRIGGER:PT18H
ACTION:DISPLAY
DESCRIPTION:Reminder
END:VALARM
END:VEVENT
END:VCALENDAR