BEGIN:VCALENDAR
PRODID:-//hacksw/handcal//NONSGML v1.0//EN
VERSION:2.0
METHOD:PUBLISH
BEGIN:VEVENT
DTSTART:20190924T213000Z
DTEND:20190924T223000Z
LOCATION:Jaspan Schlesinger- 300 Garden City Plaza, Garden City, New York 11530 
UID:1812320190924T213000ZSTUDY GROUP- Webinar: A Case Study in Teaming and Philanthropy, a complimentary program provided with Trusts & Estates and sponsored by the Accredited Estate Planner® designation
DTSTAMP:20260425T173506Z
DESCRIPTION:\n \nIf you wish to attend, please RSVP online at [ www.epcnassau.org](https://nam02.safelinks.protection.outlook.com/?url=http%3A%2F%2Fwww.epcnassau.org%2F&data=02%7C01%7C%7C5fb2e92759bc462a957808d70fa72b60%7C84df9e7fe9f640afb435aaaaaaaaaaaa%7C1%7C0%7C636995082964422161&sdata=hNMKJ8B13sQKLoYo%2FyfJ9gs74Gu%2FUlVfsJqlhhih%2FBg%3D&reserved=0)  or to our Committee Chairperson:\n \nMichael P. Ryan, Esq.\n \n      516-393-8253\n \n mpryan@jaspanllp.com\n
SUMMARY:STUDY GROUP- Webinar: A Case Study in Teaming and Philanthropy, a complimentary program provided with Trusts & Estates and sponsored by the Accredited Estate Planner® designation - Estate Planning Council of Long Island 
PRIORITY:3
BEGIN:VALARM
TRIGGER:PT18H
ACTION:DISPLAY
DESCRIPTION:Reminder
END:VALARM
END:VEVENT
END:VCALENDAR