BEGIN:VCALENDAR
PRODID:-//hacksw/handcal//NONSGML v1.0//EN
VERSION:2.0
METHOD:PUBLISH
BEGIN:VEVENT
DTSTART:20190611T220000Z
DTEND:20190612T020000Z
LOCATION:The Crescent Beach Club Bayville, NY
UID:1762120190611T220000ZAnnual Officers’ Conferment Dinner
DTSTAMP:20260425T172831Z
DESCRIPTION:\nhttp://thecrescentbeachclub.com/\n
SUMMARY:Annual Officers’ Conferment Dinner - Estate Planning Council of Long Island 
PRIORITY:3
BEGIN:VALARM
TRIGGER:PT18H
ACTION:DISPLAY
DESCRIPTION:Reminder
END:VALARM
END:VEVENT
END:VCALENDAR