BEGIN:VCALENDAR
PRODID:-//hacksw/handcal//NONSGML v1.0//EN
VERSION:2.0
METHOD:PUBLISH
BEGIN:VEVENT
DTSTART:20190815T213000Z
DTEND:20190815T223000Z
LOCATION:Jaspan Schlesinger- 300 Garden City Plaza, Garden City, New York 11530
UID:1732520190815T213000ZSTUDY GROUP- Webinar- "Technology in Your Practice"
DTSTAMP:20260425T174825Z
DESCRIPTION:\nIf you wish to attend, please RSVP online at [ www.epcnassau.org](https://eur02.safelinks.protection.outlook.com/?url=http%3A%2F%2Fwww.epcnassau.org%2F&data=02%7C01%7C%7C1c5265335eb04ce4c0d108d709333153%7C84df9e7fe9f640afb435aaaaaaaaaaaa%7C1%7C0%7C636987987782919346&sdata=wWd4fnyHwm%2FLCizaJvhWvomvYrORskcQab9mWPHlS1c%3D&reserved=0)  or to our Committee Chairperson:\n \nMichael P. Ryan, Esq.\n \n      516-393-8253\n \n mpryan@jaspanllp.com\n
SUMMARY:STUDY GROUP- Webinar- "Technology in Your Practice" - Estate Planning Council of Long Island 
PRIORITY:3
BEGIN:VALARM
TRIGGER:PT18H
ACTION:DISPLAY
DESCRIPTION:Reminder
END:VALARM
END:VEVENT
END:VCALENDAR