BEGIN:VCALENDAR
PRODID:-//hacksw/handcal//NONSGML v1.0//EN
VERSION:2.0
METHOD:PUBLISH
BEGIN:VEVENT
DTSTART:20190725T213000Z
DTEND:20190725T223000Z
LOCATION:Jaspan Schlesinger- 300 Garden City Plaza, Garden City, New York 11530
UID:1732420190725T213000ZSTUDY GROUP- Webinar- "Panel Discussion: Threats to Attorney - Client Privilege in a Team Environment"
DTSTAMP:20260425T174717Z
DESCRIPTION:\nIf you wish to attend, please RSVP online at [ www.epcnassau.org](https://eur02.safelinks.protection.outlook.com/?url=http%3A%2F%2Fwww.epcnassau.org%2F&data=02%7C01%7C%7C5db21770463c4c60a46508d6a0d88b0d%7C84df9e7fe9f640afb435aaaaaaaaaaaa%7C1%7C0%7C636873249233840092&sdata=JA%2FANzj%2BrwPSf6VDtpFSvtiT%2BokL7p5ACKB%2FBj5wA7o%3D&reserved=0)  or to our Committee Chairperson:\n \nMichael P. Ryan, Esq.\n \n      516-393-8253\n \n mpryan@jaspanllp.com\n
SUMMARY:STUDY GROUP- Webinar- "Panel Discussion: Threats to Attorney - Client Privilege in a Team Environment" - Estate Planning Council of Long Island 
PRIORITY:3
BEGIN:VALARM
TRIGGER:PT18H
ACTION:DISPLAY
DESCRIPTION:Reminder
END:VALARM
END:VEVENT
END:VCALENDAR