BEGIN:VCALENDAR
PRODID:-//hacksw/handcal//NONSGML v1.0//EN
VERSION:2.0
METHOD:PUBLISH
BEGIN:VEVENT
DTSTART:20190521T213000Z
DTEND:20190521T223000Z
LOCATION:Jaspan Schelsinger- 300 Garden City Plaza, Garden City, New York 11530
UID:1732220190521T213000ZSTUDY GROUP- Webinar "The Generational Solution, Creating Generational Wealth"
DTSTAMP:20260425T174754Z
DESCRIPTION:
SUMMARY:STUDY GROUP- Webinar "The Generational Solution, Creating Generational Wealth" - Estate Planning Council of Long Island 
PRIORITY:3
BEGIN:VALARM
TRIGGER:PT18H
ACTION:DISPLAY
DESCRIPTION:Reminder
END:VALARM
END:VEVENT
END:VCALENDAR