BEGIN:VCALENDAR
PRODID:-//hacksw/handcal//NONSGML v1.0//EN
VERSION:2.0
METHOD:PUBLISH
BEGIN:VEVENT
DTSTART:20190425T213000Z
DTEND:20190425T223000Z
LOCATION:Jaspan Schlesinger- 300 Garden City Plaza, Garden City, New York 11530
UID:1732120190425T213000ZSTUDY GROUP- "Qualified Opportunity Zones"
DTSTAMP:20260425T174620Z
DESCRIPTION:
SUMMARY:STUDY GROUP- "Qualified Opportunity Zones" - Estate Planning Council of Long Island 
PRIORITY:3
BEGIN:VALARM
TRIGGER:PT18H
ACTION:DISPLAY
DESCRIPTION:Reminder
END:VALARM
END:VEVENT
END:VCALENDAR