BEGIN:VCALENDAR
PRODID:-//hacksw/handcal//NONSGML v1.0//EN
VERSION:2.0
METHOD:PUBLISH
BEGIN:VEVENT
DTSTART:20190418T123000Z
DTEND:20190418T140000Z
LOCATION:The Nassau County Bar Association- 15th and West Streets, Mineola, NY 11501 
UID:1683620190418T123000ZBreakfast Meeting- "Surrogate's Update"
DTSTAMP:20260425T173905Z
DESCRIPTION:\n\n
SUMMARY:Breakfast Meeting- "Surrogate's Update" - Estate Planning Council of Long Island 
PRIORITY:3
BEGIN:VALARM
TRIGGER:PT18H
ACTION:DISPLAY
DESCRIPTION:Reminder
END:VALARM
END:VEVENT
END:VCALENDAR