BEGIN:VCALENDAR
PRODID:-//hacksw/handcal//NONSGML v1.0//EN
VERSION:2.0
METHOD:PUBLISH
BEGIN:VEVENT
DTSTART:20190321T213000Z
DTEND:20190322T010000Z
LOCATION:Chateau Briand- 440 Old Country Road, Carle Place, NY 11514
UID:1683520190321T213000ZDinner Meeting- “Claims Against Professionals in Estate Planning Matters”
DTSTAMP:20260425T174717Z
DESCRIPTION:
SUMMARY:Dinner Meeting- “Claims Against Professionals in Estate Planning Matters” - Estate Planning Council of Long Island 
PRIORITY:3
BEGIN:VALARM
TRIGGER:PT18H
ACTION:DISPLAY
DESCRIPTION:Reminder
END:VALARM
END:VEVENT
END:VCALENDAR