BEGIN:VCALENDAR
PRODID:-//hacksw/handcal//NONSGML v1.0//EN
VERSION:2.0
METHOD:PUBLISH
BEGIN:VEVENT
DTSTART:20190221T133000Z
DTEND:20190221T150000Z
LOCATION:Westbury Manor- 1100 Jericho Turnpike Westbury, NY 11590
UID:1683420190221T133000ZBreakfast Meeting- “The Life Insurance Policy Crisis: The Advisors’ and Trustees’ Guide to Managing Risks and Avoiding a Client Crisis”
DTSTAMP:20260425T174619Z
DESCRIPTION:\nWe would like to thank the above Sponsor\n
SUMMARY:Breakfast Meeting- “The Life Insurance Policy Crisis: The Advisors’ and Trustees’ Guide to Managing Risks and Avoiding a Client Crisis” - Estate Planning Council of Long Island 
PRIORITY:3
BEGIN:VALARM
TRIGGER:PT18H
ACTION:DISPLAY
DESCRIPTION:Reminder
END:VALARM
END:VEVENT
END:VCALENDAR