BEGIN:VCALENDAR
PRODID:-//hacksw/handcal//NONSGML v1.0//EN
VERSION:2.0
METHOD:PUBLISH
BEGIN:VEVENT
DTSTART:20190117T223000Z
DTEND:20190118T010000Z
LOCATION:Chateau Briand- 440 Old Country Road, Carle Place, NY 11514
UID:1683320190117T223000ZDinner Meeting- "Planning Under the 2017 Tax Act and Other Developments"
DTSTAMP:20260425T173836Z
DESCRIPTION:\nWe would like to thank the above Sponsor\n
SUMMARY:Dinner Meeting- "Planning Under the 2017 Tax Act and Other Developments" - Estate Planning Council of Long Island 
PRIORITY:3
BEGIN:VALARM
TRIGGER:PT18H
ACTION:DISPLAY
DESCRIPTION:Reminder
END:VALARM
END:VEVENT
END:VCALENDAR