BEGIN:VCALENDAR
PRODID:-//hacksw/handcal//NONSGML v1.0//EN
VERSION:2.0
METHOD:PUBLISH
BEGIN:VEVENT
DTSTART:20181220T133000Z
DTEND:20181220T150000Z
LOCATION:The Nassau County Bar Association- 15th and West Streets, Mineola, NY 11501 
UID:1683220181220T133000ZBreakfast Meeting- "A Step in the Right Direction for Elder Abuse Cases”
DTSTAMP:20260425T173701Z
DESCRIPTION:\n \n \nUpdate Speaker: David Schoenhaar, Esq.- Partner\n \nRuskin Moscou Faltischek, P. C.\n \n“529 Plans”\n
SUMMARY:Breakfast Meeting- "A Step in the Right Direction for Elder Abuse Cases” - Estate Planning Council of Long Island 
PRIORITY:3
BEGIN:VALARM
TRIGGER:PT18H
ACTION:DISPLAY
DESCRIPTION:Reminder
END:VALARM
END:VEVENT
END:VCALENDAR