BEGIN:VCALENDAR
PRODID:-//hacksw/handcal//NONSGML v1.0//EN
VERSION:2.0
METHOD:PUBLISH
BEGIN:VEVENT
DTSTART:20181018T123000Z
DTEND:20181018T140000Z
LOCATION:Chateau Briand- 440 Old Country Road, Carle Place, NY 11514
UID:1683020181018T123000ZBreakfast Meeting- “Shaking Up The Financial Industry- A Primer on Bitcoin & Other Cryptocurrencies”
DTSTAMP:20260425T174324Z
DESCRIPTION:\n\n\nWe would like to Thank our Sponsor:\n \n Prager Metis \n  \n \n\n\n\n  \n
SUMMARY:Breakfast Meeting- “Shaking Up The Financial Industry- A Primer on Bitcoin & Other Cryptocurrencies” - Estate Planning Council of Long Island 
PRIORITY:3
BEGIN:VALARM
TRIGGER:PT18H
ACTION:DISPLAY
DESCRIPTION:Reminder
END:VALARM
END:VEVENT
END:VCALENDAR