BEGIN:VCALENDAR
PRODID:-//hacksw/handcal//NONSGML v1.0//EN
VERSION:2.0
METHOD:PUBLISH
BEGIN:VEVENT
DTSTART:20180920T213000Z
DTEND:20180921T000000Z
LOCATION:Westbury Manor- 1100 Jericho Turnpike Westbury, NY 11590 
UID:1682920180920T213000ZDinner Meeting-“Divorce – What Every Professional Advisor Should Know….?”
DTSTAMP:20260425T173912Z
DESCRIPTION:\nWe would like to thank our Sponsor:\n \n\n\n\n  \n
SUMMARY:Dinner Meeting-“Divorce – What Every Professional Advisor Should Know….?” - Estate Planning Council of Long Island 
PRIORITY:3
BEGIN:VALARM
TRIGGER:PT18H
ACTION:DISPLAY
DESCRIPTION:Reminder
END:VALARM
END:VEVENT
END:VCALENDAR